BEGIN:VCALENDAR
VERSION:2.0
PRODID:-//52.85.151.79//NONSGML kigkonsult.se iCalcreator 2.26.9//
CALSCALE:GREGORIAN
METHOD:PUBLISH
X-FROM-URL:https://www.mvd.newmexico.gov
X-WR-TIMEZONE:America/Denver
BEGIN:VTIMEZONE
TZID:America/Denver
X-LIC-LOCATION:America/Denver
BEGIN:STANDARD
DTSTART:20211107T020000
TZOFFSETFROM:-0600
TZOFFSETTO:-0700
RDATE:20221106T020000
TZNAME:MST
END:STANDARD
BEGIN:DAYLIGHT
DTSTART:20210314T020000
TZOFFSETFROM:-0700
TZOFFSETTO:-0600
RDATE:20220313T020000,20230312T020000
TZNAME:MDT
END:DAYLIGHT
END:VTIMEZONE
BEGIN:VEVENT
UID:ai1ec-7509@www.mvd.newmexico.gov
DTSTAMP:20210922T044831Z
CATEGORIES:
CONTACT:
DESCRIPTION:The following offices are closed:\nGrants – (Schools)\nSilver C
 ity – (Schools)\nGallup – (Schools)
DTSTART;VALUE=DATE:20210126
DTEND;VALUE=DATE:20210127
SEQUENCE:0
SUMMARY:The following offices are closed:
URL:https://www.mvd.newmexico.gov/event/the-following-offices-are-closed/
X-COST-TYPE:free
X-ALT-DESC;FMTTYPE=text/html:<!DOCTYPE HTML PUBLIC '-//W3C//DTD HTML 3.2//E
 N'>\\n<HTML>\\n<HEAD>\\n<TITLE></TITLE>\\n</HEAD>\\n<BODY><div class='et-l
  et-l--post'>\n			<div class='et_builder_inner_content et_pb_gutters3'>\n		<p>T
 he following offices are closed:<br />\nGrants – (Schools)<br />\nSilver C
 ity – (Schools)<br />\nGallup – (Schools)</p>\n\n		</div>\n	</div>\n	</BODY></
 HTML>
END:VEVENT
BEGIN:VEVENT
UID:ai1ec-7556@www.mvd.newmexico.gov
DTSTAMP:20210922T044831Z
CATEGORIES:
CONTACT:
DESCRIPTION:Los Lunas\nMoriarty\nFarmington\nGallup\nSocorro\nLos Alamos\nE
 spanola\nClovis\nRuidoso\nPortales\nRoswell
DTSTART;VALUE=DATE:20210216
DTEND;VALUE=DATE:20210217
SEQUENCE:0
SUMMARY:Inclement weather closures
URL:https://www.mvd.newmexico.gov/event/inclement-weather-closures/
X-COST-TYPE:free
X-ALT-DESC;FMTTYPE=text/html:<!DOCTYPE HTML PUBLIC '-//W3C//DTD HTML 3.2//E
 N'>\\n<HTML>\\n<HEAD>\\n<TITLE></TITLE>\\n</HEAD>\\n<BODY><div class='et-l
  et-l--post'>\n			<div class='et_builder_inner_content et_pb_gutters3'><div c
 lass='et_pb_section et_pb_section_0 et_section_regular' >\n				\n				\n				\n				\n					<div cl
 ass='et_pb_row et_pb_row_0'>\n				<div class='et_pb_column et_pb_column_4_4 et
 _pb_column_0  et_pb_css_mix_blend_mode_passthrough et-last-child'>\n				\n				\n				<d
 iv class='et_pb_module et_pb_text et_pb_text_0  et_pb_text_align_left et_p
 b_bg_layout_light'>\n				\n				\n				<div class='et_pb_text_inner'><p>Los Lunas<br />
 \nMoriarty<br />\nFarmington<br />\nGallup<br />\nSocorro<br />\nLos Alamo
 s<br />\nEspanola<br />\nClovis<br />\nRuidoso<br />\nPortales<br />\nRosw
 ell</p></div>\n			</div>\n			</div>\n				\n				\n			</div>\n				\n				\n			</div>		</div>\n	</div>\n	</BOD
 Y></HTML>
END:VEVENT
BEGIN:VEVENT
UID:ai1ec-7566@www.mvd.newmexico.gov
DTSTAMP:20210922T044831Z
CATEGORIES:
CONTACT:
DESCRIPTION:
DTSTART;VALUE=DATE:20210226
DTEND;VALUE=DATE:20210227
SEQUENCE:0
SUMMARY:Cloudcroft MVD Closed
URL:https://www.mvd.newmexico.gov/event/cloudcroft-mvd-closed/
X-COST-TYPE:free
X-ALT-DESC;FMTTYPE=text/html:<!DOCTYPE HTML PUBLIC '-//W3C//DTD HTML 3.2//E
 N'>\\n<HTML>\\n<HEAD>\\n<TITLE></TITLE>\\n</HEAD>\\n<BODY><div class='et-l
  et-l--post'>\n			<div class='et_builder_inner_content et_pb_gutters3'>\n		\n		</
 div>\n	</div>\n	</BODY></HTML>
END:VEVENT
BEGIN:VEVENT
UID:ai1ec-7725@www.mvd.newmexico.gov
DTSTAMP:20210922T044831Z
CATEGORIES:
CONTACT:
DESCRIPTION:
DTSTART;VALUE=DATE:20210324
DTEND;VALUE=DATE:20210325
SEQUENCE:0
SUMMARY:Closed due to inclement weather – Los Alamos \,Springer and Las Veg
 as
URL:https://www.mvd.newmexico.gov/event/closed-due-to-inclement-weather-los
 -alamos-springer-and-las-vegas-2/
X-COST-TYPE:free
X-ALT-DESC;FMTTYPE=text/html:<!DOCTYPE HTML PUBLIC '-//W3C//DTD HTML 3.2//E
 N'>\\n<HTML>\\n<HEAD>\\n<TITLE></TITLE>\\n</HEAD>\\n<BODY><div class='et-l
  et-l--post'>\n			<div class='et_builder_inner_content et_pb_gutters3'>\n		\n		</
 div>\n	</div>\n	</BODY></HTML>
END:VEVENT
BEGIN:VEVENT
UID:ai1ec-7693@www.mvd.newmexico.gov
DTSTAMP:20210922T044831Z
CATEGORIES:
CONTACT:
DESCRIPTION:
DTSTART;VALUE=DATE:20210407
DTEND;VALUE=DATE:20210410
SEQUENCE:0
SUMMARY:Cloudcroft MVD Closed
URL:https://www.mvd.newmexico.gov/event/cloudcroft-mvd-closed-2/
X-COST-TYPE:free
X-ALT-DESC;FMTTYPE=text/html:<!DOCTYPE HTML PUBLIC '-//W3C//DTD HTML 3.2//E
 N'>\\n<HTML>\\n<HEAD>\\n<TITLE></TITLE>\\n</HEAD>\\n<BODY><div class='et-l
  et-l--post'>\n			<div class='et_builder_inner_content et_pb_gutters3'>\n		\n		</
 div>\n	</div>\n	</BODY></HTML>
END:VEVENT
BEGIN:VEVENT
UID:ai1ec-7786@www.mvd.newmexico.gov
DTSTAMP:20210922T044831Z
CATEGORIES:
CONTACT:
DESCRIPTION:
DTSTART;VALUE=DATE:20210413
DTEND;VALUE=DATE:20210414
SEQUENCE:0
SUMMARY:Springer Closed
URL:https://www.mvd.newmexico.gov/event/springer-closed/
X-COST-TYPE:free
X-ALT-DESC;FMTTYPE=text/html:<!DOCTYPE HTML PUBLIC '-//W3C//DTD HTML 3.2//E
 N'>\\n<HTML>\\n<HEAD>\\n<TITLE></TITLE>\\n</HEAD>\\n<BODY><div class='et-l
  et-l--post'>\n			<div class='et_builder_inner_content et_pb_gutters3'>\n		\n		</
 div>\n	</div>\n	</BODY></HTML>
END:VEVENT
BEGIN:VEVENT
UID:ai1ec-7868@www.mvd.newmexico.gov
DTSTAMP:20210922T044831Z
CATEGORIES:
CONTACT:
DESCRIPTION:
DTSTART;VALUE=DATE:20210506
DTEND;VALUE=DATE:20210507
SEQUENCE:0
SUMMARY:Springer Closed
URL:https://www.mvd.newmexico.gov/event/springer-closed-2/
X-COST-TYPE:free
X-ALT-DESC;FMTTYPE=text/html:<!DOCTYPE HTML PUBLIC '-//W3C//DTD HTML 3.2//E
 N'>\\n<HTML>\\n<HEAD>\\n<TITLE></TITLE>\\n</HEAD>\\n<BODY><div class='et-l
  et-l--post'>\n			<div class='et_builder_inner_content et_pb_gutters3'>\n		\n		</
 div>\n	</div>\n	</BODY></HTML>
END:VEVENT
BEGIN:VEVENT
UID:ai1ec-7903@www.mvd.newmexico.gov
DTSTAMP:20210922T044831Z
CATEGORIES:
CONTACT:
DESCRIPTION:
DTSTART;VALUE=DATE:20210520
DTEND;VALUE=DATE:20210521
SEQUENCE:0
SUMMARY:Springer Closed
URL:https://www.mvd.newmexico.gov/event/springer-closed-3/
X-COST-TYPE:free
X-ALT-DESC;FMTTYPE=text/html:<!DOCTYPE HTML PUBLIC '-//W3C//DTD HTML 3.2//E
 N'>\\n<HTML>\\n<HEAD>\\n<TITLE></TITLE>\\n</HEAD>\\n<BODY><div class='et-l
  et-l--post'>\n			<div class='et_builder_inner_content et_pb_gutters3'>\n		\n		</
 div>\n	</div>\n	</BODY></HTML>
END:VEVENT
BEGIN:VEVENT
UID:ai1ec-7796@www.mvd.newmexico.gov
DTSTAMP:20210922T044831Z
CATEGORIES:
CONTACT:
DESCRIPTION:
DTSTART;VALUE=DATE:20210524
DTEND;VALUE=DATE:20210525
SEQUENCE:0
SUMMARY:Cloudcroft Closed
URL:https://www.mvd.newmexico.gov/event/cloudcroft-closed/
X-COST-TYPE:free
X-ALT-DESC;FMTTYPE=text/html:<!DOCTYPE HTML PUBLIC '-//W3C//DTD HTML 3.2//E
 N'>\\n<HTML>\\n<HEAD>\\n<TITLE></TITLE>\\n</HEAD>\\n<BODY><div class='et-l
  et-l--post'>\n			<div class='et_builder_inner_content et_pb_gutters3'>\n		\n		</
 div>\n	</div>\n	</BODY></HTML>
END:VEVENT
BEGIN:VEVENT
UID:ai1ec-7904@www.mvd.newmexico.gov
DTSTAMP:20210922T044831Z
CATEGORIES:
CONTACT:
DESCRIPTION:
DTSTART;VALUE=DATE:20210526
DTEND;VALUE=DATE:20210527
SEQUENCE:0
SUMMARY:Springer Closed
URL:https://www.mvd.newmexico.gov/event/springer-closed-4/
X-COST-TYPE:free
X-ALT-DESC;FMTTYPE=text/html:<!DOCTYPE HTML PUBLIC '-//W3C//DTD HTML 3.2//E
 N'>\\n<HTML>\\n<HEAD>\\n<TITLE></TITLE>\\n</HEAD>\\n<BODY><div class='et-l
  et-l--post'>\n			<div class='et_builder_inner_content et_pb_gutters3'>\n		\n		</
 div>\n	</div>\n	</BODY></HTML>
END:VEVENT
BEGIN:VEVENT
UID:ai1ec-8022@www.mvd.newmexico.gov
DTSTAMP:20210922T044831Z
CATEGORIES:
CONTACT:
DESCRIPTION:
DTSTART;VALUE=DATE:20210727
DTEND;VALUE=DATE:20210730
SEQUENCE:0
SUMMARY:Dexter Closed
URL:https://www.mvd.newmexico.gov/event/dexter-closed/
X-COST-TYPE:free
X-ALT-DESC;FMTTYPE=text/html:<!DOCTYPE HTML PUBLIC '-//W3C//DTD HTML 3.2//E
 N'>\\n<HTML>\\n<HEAD>\\n<TITLE></TITLE>\\n</HEAD>\\n<BODY><div class='et-l
  et-l--post'>\n			<div class='et_builder_inner_content et_pb_gutters3'>\n		\n		</
 div>\n	</div>\n	</BODY></HTML>
END:VEVENT
BEGIN:VEVENT
UID:ai1ec-8076@www.mvd.newmexico.gov
DTSTAMP:20210922T044831Z
CATEGORIES:
CONTACT:
DESCRIPTION:
DTSTART;VALUE=DATE:20210823
DTEND;VALUE=DATE:20210824
SEQUENCE:0
SUMMARY:Springer Closed
URL:https://www.mvd.newmexico.gov/event/springer-closed-5/
X-COST-TYPE:free
X-ALT-DESC;FMTTYPE=text/html:<!DOCTYPE HTML PUBLIC '-//W3C//DTD HTML 3.2//E
 N'>\\n<HTML>\\n<HEAD>\\n<TITLE></TITLE>\\n</HEAD>\\n<BODY><div class='et-l
  et-l--post'>\n			<div class='et_builder_inner_content et_pb_gutters3'>\n		\n		</
 div>\n	</div>\n	</BODY></HTML>
END:VEVENT
BEGIN:VEVENT
UID:ai1ec-8090@www.mvd.newmexico.gov
DTSTAMP:20210922T044831Z
CATEGORIES:
CONTACT:
DESCRIPTION:
DTSTART;VALUE=DATE:20210831
DTEND;VALUE=DATE:20210901
SEQUENCE:0
SUMMARY:Cloudcroft MVD Closed
URL:https://www.mvd.newmexico.gov/event/cloudcroft-mvd-closed-4/
X-COST-TYPE:free
X-ALT-DESC;FMTTYPE=text/html:<!DOCTYPE HTML PUBLIC '-//W3C//DTD HTML 3.2//E
 N'>\\n<HTML>\\n<HEAD>\\n<TITLE></TITLE>\\n</HEAD>\\n<BODY><div class='et-l
  et-l--post'>\n			<div class='et_builder_inner_content et_pb_gutters3'>\n		\n		</
 div>\n	</div>\n	</BODY></HTML>
END:VEVENT
BEGIN:VEVENT
UID:ai1ec-8086@www.mvd.newmexico.gov
DTSTAMP:20210922T044831Z
CATEGORIES:
CONTACT:
DESCRIPTION:
DTSTART;VALUE=DATE:20210902
DTEND;VALUE=DATE:20210903
SEQUENCE:0
SUMMARY:Cloudcroft MVD Closed
URL:https://www.mvd.newmexico.gov/event/cloudcroft-mvd-closed-3/
X-COST-TYPE:free
X-ALT-DESC;FMTTYPE=text/html:<!DOCTYPE HTML PUBLIC '-//W3C//DTD HTML 3.2//E
 N'>\\n<HTML>\\n<HEAD>\\n<TITLE></TITLE>\\n</HEAD>\\n<BODY><div class='et-l
  et-l--post'>\n			<div class='et_builder_inner_content et_pb_gutters3'>\n		\n		</
 div>\n	</div>\n	</BODY></HTML>
END:VEVENT
BEGIN:VEVENT
UID:ai1ec-5787@www.mvd.newmexico.gov
DTSTAMP:20210922T044831Z
CATEGORIES:
CONTACT:
DESCRIPTION:
DTSTART;TZID=America/Denver:20201208T070000
RDATE;TZID=America/Denver:20201209T070000
RDATE;TZID=America/Denver:20201210T070000
RDATE;TZID=America/Denver:20201211T070000
SEQUENCE:0
SUMMARY:Taos Closed
URL:https://www.mvd.newmexico.gov/event/taos-closed/
X-COST-TYPE:free
X-ALT-DESC;FMTTYPE=text/html:<!DOCTYPE HTML PUBLIC '-//W3C//DTD HTML 3.2//E
 N'>\\n<HTML>\\n<HEAD>\\n<TITLE></TITLE>\\n</HEAD>\\n<BODY><div class='et-l
  et-l--post'>\n			<div class='et_builder_inner_content et_pb_gutters3'>\n		\n		</
 div>\n	</div>\n	</BODY></HTML>
X-INSTANT-EVENT:1
END:VEVENT
BEGIN:VEVENT
UID:ai1ec-5794@www.mvd.newmexico.gov
DTSTAMP:20210922T044831Z
CATEGORIES:
CONTACT:
DESCRIPTION:
DTSTART;TZID=America/Denver:20201216T120000
SEQUENCE:0
SUMMARY:Clayton Closed at 12pm for remainder of the day
URL:https://www.mvd.newmexico.gov/event/clayton-closed-at-12pm-for-remainde
 r-of-the-day/
X-COST-TYPE:free
X-ALT-DESC;FMTTYPE=text/html:<!DOCTYPE HTML PUBLIC '-//W3C//DTD HTML 3.2//E
 N'>\\n<HTML>\\n<HEAD>\\n<TITLE></TITLE>\\n</HEAD>\\n<BODY><div class='et-l
  et-l--post'>\n			<div class='et_builder_inner_content et_pb_gutters3'>\n		\n		</
 div>\n	</div>\n	</BODY></HTML>
X-INSTANT-EVENT:1
END:VEVENT
BEGIN:VEVENT
UID:ai1ec-5797@www.mvd.newmexico.gov
DTSTAMP:20210922T044831Z
CATEGORIES:
CONTACT:
DESCRIPTION:
DTSTART;TZID=America/Denver:20201217T080000
SEQUENCE:0
SUMMARY:Clayton Closed
URL:https://www.mvd.newmexico.gov/event/clayton-closed/
X-COST-TYPE:free
X-ALT-DESC;FMTTYPE=text/html:<!DOCTYPE HTML PUBLIC '-//W3C//DTD HTML 3.2//E
 N'>\\n<HTML>\\n<HEAD>\\n<TITLE></TITLE>\\n</HEAD>\\n<BODY><div class='et-l
  et-l--post'>\n			<div class='et_builder_inner_content et_pb_gutters3'>\n		\n		</
 div>\n	</div>\n	</BODY></HTML>
X-INSTANT-EVENT:1
END:VEVENT
BEGIN:VEVENT
UID:ai1ec-5800@www.mvd.newmexico.gov
DTSTAMP:20210922T044831Z
CATEGORIES:
CONTACT:
DESCRIPTION:
DTSTART;TZID=America/Denver:20201221T080000
RDATE;TZID=America/Denver:20201222T080000
RDATE;TZID=America/Denver:20201223T080000
RDATE;TZID=America/Denver:20201224T080000
RDATE;TZID=America/Denver:20201225T080000
RDATE;TZID=America/Denver:20201231T080000
SEQUENCE:0
SUMMARY:Dexter MVD Closed
URL:https://www.mvd.newmexico.gov/event/dexter-mvd-closed/
X-COST-TYPE:free
X-ALT-DESC;FMTTYPE=text/html:<!DOCTYPE HTML PUBLIC '-//W3C//DTD HTML 3.2//E
 N'>\\n<HTML>\\n<HEAD>\\n<TITLE></TITLE>\\n</HEAD>\\n<BODY><div class='et-l
  et-l--post'>\n			<div class='et_builder_inner_content et_pb_gutters3'>\n		\n		</
 div>\n	</div>\n	</BODY></HTML>
X-INSTANT-EVENT:1
END:VEVENT
BEGIN:VEVENT
UID:ai1ec-7500@www.mvd.newmexico.gov
DTSTAMP:20210922T044831Z
CATEGORIES:
CONTACT:
DESCRIPTION:
DTSTART;TZID=America/Denver:20210125T080000
DTEND;TZID=America/Denver:20210125T100000
LOCATION:Taos Office
SEQUENCE:0
SUMMARY:Taos Office on 2 Hour Delay
URL:https://www.mvd.newmexico.gov/event/taos-office-on-2-hour-delay/
X-COST-TYPE:free
X-ALT-DESC;FMTTYPE=text/html:<!DOCTYPE HTML PUBLIC '-//W3C//DTD HTML 3.2//E
 N'>\\n<HTML>\\n<HEAD>\\n<TITLE></TITLE>\\n</HEAD>\\n<BODY><div class='et-l
  et-l--post'>\n			<div class='et_builder_inner_content et_pb_gutters3'>\n		\n		</
 div>\n	</div>\n	</BODY></HTML>
END:VEVENT
BEGIN:VEVENT
UID:ai1ec-7508@www.mvd.newmexico.gov
DTSTAMP:20210922T044831Z
CATEGORIES:
CONTACT:
DESCRIPTION:The following MVD offices are on a 2 hour weather delay:\nAll A
 BQ Offices – Eagle Vista\, Montgomery\, Sandia Vista\, & Rio Bravo (Per SP
 O)\nSanta Field office & Montoya Building (Per SPO)\nEspanola – (schools)
 \nLos Alamos – (Agents are from Espanola)\nLos Lunas – (Schools)\nBelen – 
 (Schools)\nMoriarty – (schools)
DTSTART;TZID=America/Denver:20210126T080000
DTEND;TZID=America/Denver:20210126T100000
SEQUENCE:0
SUMMARY:Inclement Weather Delays
URL:https://www.mvd.newmexico.gov/event/inclement-weather-delays/
X-COST-TYPE:free
X-ALT-DESC;FMTTYPE=text/html:<!DOCTYPE HTML PUBLIC '-//W3C//DTD HTML 3.2//E
 N'>\\n<HTML>\\n<HEAD>\\n<TITLE></TITLE>\\n</HEAD>\\n<BODY><div class='et-l
  et-l--post'>\n			<div class='et_builder_inner_content et_pb_gutters3'>\n		<p>T
 he following MVD offices are on a 2 hour weather delay:<br />\nAll ABQ Off
 ices – Eagle Vista\, Montgomery\, Sandia Vista\, & Rio Bravo (Per SPO)<br 
 />\nSanta Field office & Montoya Building (Per SPO)<br />\nEspanola – (sch
 ools)<br />\nLos Alamos – (Agents are from Espanola)<br />\nLos Lunas – (S
 chools)<br />\nBelen – (Schools)<br />\nMoriarty – (schools)</p>\n\n		</div>
 \n	</div>\n	</BODY></HTML>
END:VEVENT
BEGIN:VEVENT
UID:ai1ec-7557@www.mvd.newmexico.gov
DTSTAMP:20210922T044831Z
CATEGORIES:
CONTACT:
DESCRIPTION:Belen\nAll ABQ offices (Eagle Vista\, Montgomery\, Rio Bravo\, 
 Sandia Vista)\nSanta Fe\nCarlsbad (No power currently in the area all the 
 way to Eunice\, will open back up once power returns)
DTSTART;TZID=America/Denver:20210216T080000
DTEND;TZID=America/Denver:20210216T100000
SEQUENCE:0
SUMMARY:2 Hour delays
URL:https://www.mvd.newmexico.gov/event/2-hour-delays/
X-COST-TYPE:free
X-ALT-DESC;FMTTYPE=text/html:<!DOCTYPE HTML PUBLIC '-//W3C//DTD HTML 3.2//E
 N'>\\n<HTML>\\n<HEAD>\\n<TITLE></TITLE>\\n</HEAD>\\n<BODY><div class='et-l
  et-l--post'>\n			<div class='et_builder_inner_content et_pb_gutters3'>\n		<p>B
 elen<br />\nAll ABQ offices (Eagle Vista\, Montgomery\, Rio Bravo\, Sandia
  Vista)<br />\nSanta Fe<br />\nCarlsbad (No power currently in the area al
 l the way to Eunice\, will open back up once power returns)</p>\n\n		</div>
 \n	</div>\n	</BODY></HTML>
END:VEVENT
END:VCALENDAR
